BEGIN:VCALENDAR
VERSION:2.0
PRODID:icalendar-ruby
CALSCALE:GREGORIAN
BEGIN:VEVENT
DTSTAMP:20260420T193956Z
UID:d4193f2c-a8d8-43ab-a75f-31f3c2e47cd9
DTSTART;VALUE=DATE:20210224
DESCRIPTION:Property ID# 500242\, Locatoin: 84 Walton Street\, Whangarei\, 
 Time: 1:00PM
SUMMARY:Auction for 
END:VEVENT
END:VCALENDAR
